BEGIN:VCALENDAR
VERSION:2.0
PRODID:-//Humane Society of the New Braunfels Area - ECPv6.15.20//NONSGML v1.0//EN
CALSCALE:GREGORIAN
METHOD:PUBLISH
X-ORIGINAL-URL:https://hsnba.org
X-WR-CALDESC:Events for Humane Society of the New Braunfels Area
REFRESH-INTERVAL;VALUE=DURATION:PT1H
X-Robots-Tag:noindex
X-PUBLISHED-TTL:PT1H
BEGIN:VTIMEZONE
TZID:UTC
BEGIN:STANDARD
TZOFFSETFROM:+0000
TZOFFSETTO:+0000
TZNAME:UTC
DTSTART:20180101T000000
END:STANDARD
END:VTIMEZONE
BEGIN:VEVENT
DTSTART;TZID=UTC:20190405T090000
DTEND;TZID=UTC:20190405T100000
DTSTAMP:20260425T011959
CREATED:20190322T163059Z
LAST-MODIFIED:20190322T163059Z
UID:93309-1554454800-1554458400@hsnba.org
SUMMARY:Volunteers Needed: Wal-Mart Distribution Center Food Pickup **DOUBLE LOAD**
DESCRIPTION:In the morning at 9AM staff and volunteers will meet at the Walmart Distribution Center’s employee parking lot\, near the HVAC system to load up on food. \nWhile there we pre-sort a few brands: Special Kitty\, Meow Mix\, Ol’ Roy\, and Gravy Train. At least one volunteer brings those brands to the New Braunfels Food Bank for use. Other brands come back to the shelter for our use and to redistribute to other shelters\, food banks\, rescues\, and people in need. \n  \nAny size vehicle or volunteer is able to help! The more hands the smaller the burden on each.
URL:https://hsnba.org/event/volunteers-needed-wal-mart-distribution-center-food-pickup-double-load/
CATEGORIES:Volunteer,Wal-Mart Distribution Pick-Up
ATTACH;FMTTYPE=image/jpeg:https://hsnba.org/wp-content/uploads/bonnie-kittle-592057-unsplash.jpg
END:VEVENT
BEGIN:VEVENT
DTSTART;TZID=UTC:20190411T160000
DTEND;TZID=UTC:20190411T190000
DTSTAMP:20260425T011959
CREATED:20190322T173017Z
LAST-MODIFIED:20190322T173017Z
UID:93325-1554998400-1555009200@hsnba.org
SUMMARY:Gold's Gym Vendor Open House
DESCRIPTION:Come join us on April 11th at 4pm for a Vendor Open House at Gold’s Gym! \nWe will be outreaching to the community about volunteer opportunities\, upcoming events\, and activities. Unfortunately\, we will not have any pets at this event but we will be having a prize wheel with tons of great prizes! \n  \nIf you have any further questions regarding the event please email events@hsnba.org
URL:https://hsnba.org/event/golds-gym-vendor-open-house/
LOCATION:Gold’s Gym\, 651 N Business I-35 Ste 900\, New Braunfels\, TX\, 78130\, United States
ATTACH;FMTTYPE=image/jpeg:https://hsnba.org/wp-content/uploads/54228788_1256568431151089_6416345475644915712_n.jpg
ORGANIZER;CN="HSNBA Events":MAILTO:events@hsnba.org
END:VEVENT
BEGIN:VEVENT
DTSTART;TZID=UTC:20190413T100000
DTEND;TZID=UTC:20190413T104500
DTSTAMP:20260425T011959
CREATED:20190322T175714Z
LAST-MODIFIED:20190404T022054Z
UID:93329-1555149600-1555152300@hsnba.org
SUMMARY:Pilates with Pups
DESCRIPTION:Enjoy the epitome of exercise combined with fur baby overload! Join us at the Das Rec back lawn as we host a rhythmic based mat pilates class with man’s (and women’s) best friend\, Animals will be available for adoption.  \nAges 10+ | $10/person – All proceeds go to Humane Society of the New Braunfels Area\, Inc. | 17090402A | Das Rec Back Lawn \nTo learn more about this event or to set up your own\, please email Gabe at events@hsnba.org
URL:https://hsnba.org/event/pilates-with-pups/
LOCATION:Das Rec\, 345 Landa St\, New Braunfels\, TX\, 78130\, United States
CATEGORIES:Animal Adoption,Fundraisers
ATTACH;FMTTYPE=image/png:https://hsnba.org/wp-content/uploads/Pilates-with-Pups.png
ORGANIZER;CN="HSNBA Events":MAILTO:events@hsnba.org
END:VEVENT
BEGIN:VEVENT
DTSTART;TZID=UTC:20190413T160000
DTEND;TZID=UTC:20190413T170000
DTSTAMP:20260425T011959
CREATED:20190322T163417Z
LAST-MODIFIED:20190404T021707Z
UID:93313-1555171200-1555174800@hsnba.org
SUMMARY:Volunteer Orientation
DESCRIPTION:Are you interested in volunteering? Join some of our staff for a rundown of the rules and a tour of the facility! \nOrientation normally lasts about an hour. We allow questions while going through the guidelines and then we take a tour of the facility to see all of the rooms and know their rules. Volunteer applications can be found here. \nOrientations are hosted on the second Saturday and the fourth Wednesday monthly at 4 pm and 6 pm respectively.
URL:https://hsnba.org/event/volunteer-orientation-18/
LOCATION:HSNBA\, 3353 Morningside\, New Braunfels\, TX\, 78130\, United States
CATEGORIES:Orientation,Volunteer
ATTACH;FMTTYPE=image/png:https://hsnba.org/wp-content/uploads/Volunteer-Orientation.png
ORGANIZER;CN="HSNBA Events":MAILTO:events@hsnba.org
END:VEVENT
BEGIN:VEVENT
DTSTART;TZID=UTC:20190422T160000
DTEND;TZID=UTC:20190422T190000
DTSTAMP:20260425T011959
CREATED:20190404T020831Z
LAST-MODIFIED:20190404T020938Z
UID:95198-1555948800-1555959600@hsnba.org
SUMMARY:Earth Day Adoption Event
DESCRIPTION:Come join us on Earth Day at the Community Center for our Adoption Event! With tons of greats pet looking for their second chance at life ready to give you the world and more! \nQuestions email our event coordinator at event@hsnba.org or call 830-629-5287
URL:https://hsnba.org/event/earth-day-adoption-event/
LOCATION:Westside Community Center\, 2932 S Interstate 35\, New Braunfels\, TX\, 78130\, United States
CATEGORIES:Animal Adoption,Fundraisers
ATTACH;FMTTYPE=image/png:https://hsnba.org/wp-content/uploads/Earth-Day-Adoption-Event.png
ORGANIZER;CN="HSNBA":MAILTO:generalinfo@hsnba.org
END:VEVENT
BEGIN:VEVENT
DTSTART;TZID=UTC:20190424T180000
DTEND;TZID=UTC:20190424T190000
DTSTAMP:20260425T011959
CREATED:20190322T163628Z
LAST-MODIFIED:20190404T021852Z
UID:93315-1556128800-1556132400@hsnba.org
SUMMARY:Volunteer Orientation
DESCRIPTION:Are you interested in volunteering? Join some of our staff for a rundown of the rules and a tour of the facility! \nOrientation normally lasts about an hour. We allow questions while going through the guidelines and then we take a tour of the facility to see all of the rooms and know their rules. Volunteer applications can be found here. \nOrientations are hosted on the second Saturday and the fourth Wednesday monthly at 4 pm and 6 pm respectively.
URL:https://hsnba.org/event/volunteer-orientation-19/
LOCATION:HSNBA\, 3353 Morningside\, New Braunfels\, TX\, 78130\, United States
CATEGORIES:Orientation,Volunteer
ATTACH;FMTTYPE=image/png:https://hsnba.org/wp-content/uploads/Volunteer-Orientation.png
ORGANIZER;CN="HSNBA Events":MAILTO:events@hsnba.org
END:VEVENT
BEGIN:VEVENT
DTSTART;VALUE=DATE:20190425
DTEND;VALUE=DATE:20190426
DTSTAMP:20260425T011959
CREATED:20190322T180010Z
LAST-MODIFIED:20190404T022010Z
UID:93333-1556150400-1556236799@hsnba.org
SUMMARY:Putts for Paws
DESCRIPTION:Calling all golfers!!! Hill Country Apartments is putting together a huge fundraiser golf tournament for us! We are so excited to be working with The Bandit Golf Club\, Krause’s Cafe and The Spazmatics to make this event one of a kind. Don’t miss out!!! We just opened up to accept sponsorships so get your team or title sponsorship now! \nFor more information visit our Putts For Paws website or get ahold of our event coordinator at events@hsnba.org.
URL:https://hsnba.org/event/putts-for-paws/
LOCATION:The Bandit Golf Club\, 6019 FM 725\, New Braunfels\, TX\, 78130\, United States
CATEGORIES:Fundraisers
ATTACH;FMTTYPE=image/png:https://hsnba.org/wp-content/uploads/Putts-for-Paws-2019.png
ORGANIZER;CN="HSNBA Events":MAILTO:events@hsnba.org
END:VEVENT
BEGIN:VEVENT
DTSTART;TZID=UTC:20190426T090000
DTEND;TZID=UTC:20190426T100000
DTSTAMP:20260425T011959
CREATED:20190322T163253Z
LAST-MODIFIED:20190322T163253Z
UID:93311-1556269200-1556272800@hsnba.org
SUMMARY:Volunteers Needed: Wal-Mart Distribution Center Food Pickup
DESCRIPTION:In the morning at 9AM staff and volunteers will meet at the Walmart Distribution Center’s employee parking lot\, near the HVAC system to load up on food. \nWhile there we pre-sort a few brands: Special Kitty\, Meow Mix\, Ol’ Roy\, and Gravy Train. At least one volunteer brings those brands to the New Braunfels Food Bank for use. Other brands come back to the shelter for our use and to redistribute to other shelters\, food banks\, rescues\, and people in need. \n  \nAny size vehicle or volunteer is able to help! The more hands the smaller the burden on each.
URL:https://hsnba.org/event/volunteers-needed-wal-mart-distribution-center-food-pickup-16/
CATEGORIES:Volunteer,Wal-Mart Distribution Pick-Up
ATTACH;FMTTYPE=image/jpeg:https://hsnba.org/wp-content/uploads/bonnie-kittle-592057-unsplash.jpg
END:VEVENT
BEGIN:VEVENT
DTSTART;TZID=UTC:20190427T120000
DTEND;TZID=UTC:20190427T160000
DTSTAMP:20260425T011959
CREATED:20190322T180325Z
LAST-MODIFIED:20190322T180325Z
UID:93336-1556366400-1556380800@hsnba.org
SUMMARY:Crawfish Festival
DESCRIPTION:More information coming soon! \n  \nTo learn more about this event or to set up your own\, please email Gabe at events@hsnba.org
URL:https://hsnba.org/event/crawfish-festival/
LOCATION:TX\, United States
CATEGORIES:Coming Soon
ATTACH;FMTTYPE=image/jpeg:https://hsnba.org/wp-content/uploads/Coming-Soon.jpg
ORGANIZER;CN="HSNBA Events":MAILTO:events@hsnba.org
END:VEVENT
END:VCALENDAR