BEGIN:VCALENDAR
VERSION:2.0
PRODID:-//Humane Society of the New Braunfels Area - ECPv6.15.20//NONSGML v1.0//EN
CALSCALE:GREGORIAN
METHOD:PUBLISH
X-WR-CALNAME:Humane Society of the New Braunfels Area
X-ORIGINAL-URL:https://hsnba.org
X-WR-CALDESC:Events for Humane Society of the New Braunfels Area
REFRESH-INTERVAL;VALUE=DURATION:PT1H
X-Robots-Tag:noindex
X-PUBLISHED-TTL:PT1H
BEGIN:VTIMEZONE
TZID:UTC
BEGIN:STANDARD
TZOFFSETFROM:+0000
TZOFFSETTO:+0000
TZNAME:UTC
DTSTART:20230101T000000
END:STANDARD
END:VTIMEZONE
BEGIN:VEVENT
DTSTART;VALUE=DATE:20241111
DTEND;VALUE=DATE:20241112
DTSTAMP:20260421T164552
CREATED:20240812T202337Z
LAST-MODIFIED:20240812T202337Z
UID:494520-1731283200-1731369599@hsnba.org
SUMMARY:Shelter Closed: Veteran's Day
DESCRIPTION:The shelter is closed for the holiday\, while staff and a few select volunteers will be taking care of the animals and city/county officers should be available for emergencies\, we will not be open to the public for adoptions\, reclaims\, or intakes.
URL:https://hsnba.org/event/shelter-closed-veterans-day/
CATEGORIES:Closed,Holidays
END:VEVENT
END:VCALENDAR