BEGIN:VCALENDAR
VERSION:2.0
PRODID:-//Humane Society of the New Braunfels Area - ECPv6.15.20//NONSGML v1.0//EN
CALSCALE:GREGORIAN
METHOD:PUBLISH
X-WR-CALNAME:Humane Society of the New Braunfels Area
X-ORIGINAL-URL:https://hsnba.org
X-WR-CALDESC:Events for Humane Society of the New Braunfels Area
REFRESH-INTERVAL;VALUE=DURATION:PT1H
X-Robots-Tag:noindex
X-PUBLISHED-TTL:PT1H
BEGIN:VTIMEZONE
TZID:UTC
BEGIN:STANDARD
TZOFFSETFROM:+0000
TZOFFSETTO:+0000
TZNAME:UTC
DTSTART:20230101T000000
END:STANDARD
END:VTIMEZONE
BEGIN:VEVENT
DTSTART;VALUE=DATE:20240601
DTEND;VALUE=DATE:20240811
DTSTAMP:20260421T140602
CREATED:20240601T143153Z
LAST-MODIFIED:20240812T203700Z
UID:493602-1717200000-1723334399@hsnba.org
SUMMARY:Summer of Love Adoption Special
DESCRIPTION:Half off all adoptions through August 31st! Help us find new homes for all of our adoptables!
URL:https://hsnba.org/event/summer-of-love-adoption-special/
CATEGORIES:Animal Adoption
ORGANIZER;CN="HSNBA":MAILTO:generalinfo@hsnba.org
END:VEVENT
END:VCALENDAR