BEGIN:VCALENDAR
VERSION:2.0
PRODID:-//Humane Society of the New Braunfels Area - ECPv6.15.20//NONSGML v1.0//EN
CALSCALE:GREGORIAN
METHOD:PUBLISH
X-WR-CALNAME:Humane Society of the New Braunfels Area
X-ORIGINAL-URL:https://hsnba.org
X-WR-CALDESC:Events for Humane Society of the New Braunfels Area
REFRESH-INTERVAL;VALUE=DURATION:PT1H
X-Robots-Tag:noindex
X-PUBLISHED-TTL:PT1H
BEGIN:VTIMEZONE
TZID:UTC
BEGIN:STANDARD
TZOFFSETFROM:+0000
TZOFFSETTO:+0000
TZNAME:UTC
DTSTART:20210101T000000
END:STANDARD
END:VTIMEZONE
BEGIN:VEVENT
DTSTART;TZID=UTC:20221110T080000
DTEND;TZID=UTC:20221231T170000
DTSTAMP:20260421T161703
CREATED:20221110T080047Z
LAST-MODIFIED:20221103T193606Z
UID:406133-1668067200-1672506000@hsnba.org
SUMMARY:Home for the Holidays Adoption Special
DESCRIPTION:All they want is a home for the holidays. \n  \nAll animal adoptions are just $25 through the end of the year.
URL:https://hsnba.org/event/home-for-the-holidays-adoption-special/
LOCATION:HSNBA\, 3353 Morningside\, New Braunfels\, TX\, 78130\, United States
CATEGORIES:Animal Adoption
ATTACH;FMTTYPE=image/png:https://hsnba.org/wp-content/uploads/HomefortheHolidays.png
ORGANIZER;CN="HSNBA":MAILTO:generalinfo@hsnba.org
END:VEVENT
BEGIN:VEVENT
DTSTART;VALUE=DATE:20221124
DTEND;VALUE=DATE:20221126
DTSTAMP:20260421T161703
CREATED:20221116T215438Z
LAST-MODIFIED:20221116T215438Z
UID:411010-1669248000-1669420799@hsnba.org
SUMMARY:Thanksgiving Closures
DESCRIPTION:HSNBA will be closed to the public for Thanksgiving celebrations. \n  \nWhile we will be closed\, staff members will still be here caring for the animals. Animal Control for the city and county has officers on call for emergencies.
URL:https://hsnba.org/event/thanksgiving-closures/
LOCATION:HSNBA\, 3353 Morningside\, New Braunfels\, TX\, 78130\, United States
CATEGORIES:Closed,Holidays
ATTACH;FMTTYPE=image/jpeg:https://hsnba.org/wp-content/uploads/pro-church-media-441073-unsplash.jpg
END:VEVENT
END:VCALENDAR