BEGIN:VCALENDAR
VERSION:2.0
PRODID:-//Humane Society of the New Braunfels Area - ECPv6.15.20//NONSGML v1.0//EN
CALSCALE:GREGORIAN
METHOD:PUBLISH
X-WR-CALNAME:Humane Society of the New Braunfels Area
X-ORIGINAL-URL:https://hsnba.org
X-WR-CALDESC:Events for Humane Society of the New Braunfels Area
REFRESH-INTERVAL;VALUE=DURATION:PT1H
X-Robots-Tag:noindex
X-PUBLISHED-TTL:PT1H
BEGIN:VTIMEZONE
TZID:UTC
BEGIN:STANDARD
TZOFFSETFROM:+0000
TZOFFSETTO:+0000
TZNAME:UTC
DTSTART:20210101T000000
END:STANDARD
END:VTIMEZONE
BEGIN:VEVENT
DTSTART;VALUE=DATE:20220905
DTEND;VALUE=DATE:20220906
DTSTAMP:20260421T175941
CREATED:20220829T133703Z
LAST-MODIFIED:20220829T133703Z
UID:376716-1662336000-1662422399@hsnba.org
SUMMARY:Closed to the Public: Labor Day
DESCRIPTION:
URL:https://hsnba.org/event/closed-to-the-public-labor-day/
CATEGORIES:Closed,Holidays
END:VEVENT
END:VCALENDAR