BEGIN:VCALENDAR
VERSION:2.0
PRODID:-//Humane Society of the New Braunfels Area - ECPv6.15.20//NONSGML v1.0//EN
CALSCALE:GREGORIAN
METHOD:PUBLISH
X-ORIGINAL-URL:https://hsnba.org
X-WR-CALDESC:Events for Humane Society of the New Braunfels Area
REFRESH-INTERVAL;VALUE=DURATION:PT1H
X-Robots-Tag:noindex
X-PUBLISHED-TTL:PT1H
BEGIN:VTIMEZONE
TZID:UTC
BEGIN:STANDARD
TZOFFSETFROM:+0000
TZOFFSETTO:+0000
TZNAME:UTC
DTSTART:20180101T000000
END:STANDARD
END:VTIMEZONE
BEGIN:VEVENT
DTSTART;TZID=UTC:20190322T000000
DTEND;TZID=UTC:20190329T000000
DTSTAMP:20260425T041335
CREATED:20190322T171327Z
LAST-MODIFIED:20190322T171327Z
UID:93322-1553212800-1553817600@hsnba.org
SUMMARY:The Big Give
DESCRIPTION:The Big Give is ongoing\, but the last day is the biggest! \n  \nPlease consider giving to help our shelter be the best it can be. Just follow this link and share!
URL:https://hsnba.org/event/the-big-give/
CATEGORIES:Fundraisers
ATTACH;FMTTYPE=image/jpeg:https://hsnba.org/wp-content/uploads/54520702_1528574423942612_3290617557794422784_n.jpg
ORGANIZER;CN="HSNBA":MAILTO:generalinfo@hsnba.org
END:VEVENT
END:VCALENDAR