BEGIN:VCALENDAR
VERSION:2.0
PRODID:-//Humane Society of the New Braunfels Area - ECPv6.15.20//NONSGML v1.0//EN
CALSCALE:GREGORIAN
METHOD:PUBLISH
X-WR-CALNAME:Humane Society of the New Braunfels Area
X-ORIGINAL-URL:https://hsnba.org
X-WR-CALDESC:Events for Humane Society of the New Braunfels Area
REFRESH-INTERVAL;VALUE=DURATION:PT1H
X-Robots-Tag:noindex
X-PUBLISHED-TTL:PT1H
BEGIN:VTIMEZONE
TZID:UTC
BEGIN:STANDARD
TZOFFSETFROM:+0000
TZOFFSETTO:+0000
TZNAME:UTC
DTSTART:20180101T000000
END:STANDARD
END:VTIMEZONE
BEGIN:VEVENT
DTSTART;TZID=UTC:20190309T160000
DTEND;TZID=UTC:20190309T170000
DTSTAMP:20260425T041200
CREATED:20190212T211009Z
LAST-MODIFIED:20190212T211009Z
UID:86995-1552147200-1552150800@hsnba.org
SUMMARY:Volunteer Orientation
DESCRIPTION:Are you interested in volunteering? \n  \nJoin some of our staff for a rundown of the rules and a tour of the facility! \n  \nOrientation normally lasts about an hour. We allow questions while going through the guidelines and then we take a tour of the facility to see all of the rooms and know their rules. Volunteer applications can be found here. \n  \nOrientations are hosted on the second Saturday and the fourth Wednesday monthly at 4 pm and 6 pm respectively.
URL:https://hsnba.org/event/volunteer-orientation-17/
LOCATION:HSNBA\, 3353 Morningside\, New Braunfels\, TX\, 78130\, United States
CATEGORIES:Orientation,Volunteer
ATTACH;FMTTYPE=image/jpeg:https://hsnba.org/wp-content/uploads/22141084_907783336029602_7601473165699830636_n-e1530378820464.jpg
END:VEVENT
END:VCALENDAR